BEGIN:VCALENDAR
VERSION:2.0
PRODID:-//Casilac.ie - ECPv4.4.1.1//NONSGML v1.0//EN
CALSCALE:GREGORIAN
METHOD:PUBLISH
X-WR-CALNAME:Casilac.ie
X-ORIGINAL-URL:http://casilac.ie
X-WR-CALDESC:Events for Casilac.ie
BEGIN:VEVENT
DTSTART;TZID=UTC+0:20161014T110000
DTEND;TZID=UTC+0:20161014T120000
DTSTAMP:20171029T103033
CREATED:20161012T151933Z
LAST-MODIFIED:20161012T154232Z
UID:508-1476442800-1476446400@casilac.ie
SUMMARY:Reading Group by Research Cluster on Violence\, Conflict and Gender
DESCRIPTION:In this session we will be discussing the introduction to Manipulating Masculinity. War and Gender in Modern British and American Literature by Kathy J. Phillips.\n\nThis is an open event\, free to attend. The only requirement is that you have an available copy of the discussed text.\n\nPlease find a pdf copy of the introduction to Manipulating Masculinity here.
URL:http://casilac.ie/event/reading-group-by-research-cluster-on-violence-conflict-and-gender/
LOCATION:University College Cork\, Cork\, Ireland
ATTACH;FMTTYPE=image/jpeg:http://casilac.ie/wp-content/uploads/2016/10/mani.jpg
END:VEVENT
END:VCALENDAR