BEGIN:VCALENDAR
VERSION:2.0
PRODID:-//Casilac.ie - ECPv4.4.1.1//NONSGML v1.0//EN
CALSCALE:GREGORIAN
METHOD:PUBLISH
X-WR-CALNAME:Casilac.ie
X-ORIGINAL-URL:http://casilac.ie
X-WR-CALDESC:Events for Casilac.ie
BEGIN:VEVENT
DTSTART;TZID=UTC+0:20150326T170000
DTEND;TZID=UTC+0:20150326T180000
DTSTAMP:20171029T103127
CREATED:20160928T155408Z
LAST-MODIFIED:20160928T155517Z
UID:493-1427389200-1427392800@casilac.ie
SUMMARY:Professor Daniela Berghahn | Migrant and Diasporic Cinema in Contemporary Europe: The Evolution of a Research Project
DESCRIPTION:Professor Daniela Berghahn\, Royal Holloway\, University of London\n\nMigrant and Diasporic Cinema in Contemporary Europe: The Evolution of a Research Project\n\nIn her presentation\, Daniela Berghahn\, who was Principal Investigator of the international research network ‘Migrant and Diasporic Cinema in Contemporary Europe’ discussed the evolution of this project\, the knowledge exchange and impact it generated and how it led to future opportunities for research funding.\n\nMigrant and Diasporic Cinema (migrantcinema.net) was funded under the AHRC Strategic Programme Diasporas\, Migration & Identities (diasporas.ac.uk). It brought together an international team of researchers who\, in consultation with filmmakers\, representatives from the film and media industry and the cultural sector\, explored the evolution of migrant and diasporic cinemas in contemporary Europe over the past thirty years. The Network examined how films of migrant and diasporic filmmakers have redefined our understanding of European identity/ies as constructed and narrated in European national cinemas.\n\nA link to the clip Professor Daniela Berghahn showed during her presentation can be found below: vimeopro.com/docnextnetwork/remapping-europe
URL:http://casilac.ie/event/professor-daniela-berghahn-migrant-and-diasporic-cinema-in-contemporary-europe-the-evolution-of-a-research-project/
LOCATION:O'Rahilly Building\, University College Cork\, Cork\, Ireland
ATTACH;FMTTYPE=image/png:http://casilac.ie/wp-content/uploads/2016/09/Captura-de-pantalla-2016-09-28-a-les-16.53.38.png
END:VEVENT
END:VCALENDAR