BEGIN:VCALENDAR
VERSION:2.0
PRODID:-//Casilac.ie - ECPv4.4.1.1//NONSGML v1.0//EN
CALSCALE:GREGORIAN
METHOD:PUBLISH
X-WR-CALNAME:Casilac.ie
X-ORIGINAL-URL:http://casilac.ie
X-WR-CALDESC:Events for Casilac.ie
BEGIN:VEVENT
DTSTART;TZID=UTC+0:20170124T193000
DTEND;TZID=UTC+0:20170221T193000
DTSTAMP:20171029T103055
CREATED:20170118T103802Z
LAST-MODIFIED:20170118T103802Z
UID:556-1485286200-1487705400@casilac.ie
SUMMARY:DANTE PUBLIC LECTURE SERIES 2017
DESCRIPTION:The Department of Italian at University College Cork and the Centre for Advanced Studies in Languages and Cultures (CASiLaC) at UCC are pleased to announce a seventh series of public lectures on the great Italian poet Dante Alighieri.\n\nAll lectures will be in English. The Department gratefully acknowledges the support of the Society for Italian Studies.\n\nSchedule:\n\nTues\, January 24         Dr Tristan Kay (University of Bristol) – ‘Eros\, Salvation and Vernacular Poetry in Dante’\n\nTues\, January 31         Professor Corinna Salvadori Lonergan (Trinity College Dublin) – ‘“Was I\, O was I to blame For your death?” (Aeneid VI) – Authorial Guilt in Inferno V’\n\nTues\, February 7         Dr Kenneth P. Clarke (University of York) – ‘Horrid Perhapses: The Poetics of Doubt in Dante’\n\nTues\, February 14       Professor Anthony Oldcorn (Brown University) – ‘Sailing to Byzantium: A Reading of Dante’s Paradiso VI’\n\nTues\, February 21       Dr Martín Veiga (University College Cork) – ‘The Reception of Dante’s Commedia in Galician Culture’\n\nVenue:                        All lectures will take place at 7.30 pm in BOOLE LECTURE THEATRE 1
URL:http://casilac.ie/event/dante-public-lecture-series-2017/
LOCATION:University College Cork\, Cork\, T12 YN60\, Ireland
ATTACH;FMTTYPE=image/png:http://casilac.ie/wp-content/uploads/2017/01/Captura-de-pantalla-2017-01-18-a-les-10.37.19.png
END:VEVENT
END:VCALENDAR